BEGIN:VCALENDAR
VERSION:2.0
PRODID:-//wp-events-plugin.com//7.2.3.1//EN
TZID:Europe/Amsterdam
X-WR-TIMEZONE:Europe/Amsterdam
BEGIN:VEVENT
UID:423@fanfare-jabeek-doenrade.nl
DTSTART;TZID=Europe/Amsterdam:20261122T151100
DTEND;TZID=Europe/Amsterdam:20261122T201100
DTSTAMP:20260408T201240Z
URL:https://fanfare-jabeek-doenrade.nl/events/bonte-middag-jcv-de-appelkit
 sjkes/
SUMMARY:Bonte Middag JCV De Appelkitsjkes
DESCRIPTION:
CATEGORIES:Event
LOCATION:Ontmoetingscentrum Jabeek\, Gaatstraat 1\, Jabeek\, Nederland
X-APPLE-STRUCTURED-LOCATION;VALUE=URI;X-ADDRESS=Gaatstraat 1\, Jabeek\, Ned
 erland;X-APPLE-RADIUS=100;X-TITLE=Ontmoetingscentrum Jabeek:geo:0,0
END:VEVENT
BEGIN:VTIMEZONE
TZID:Europe/Amsterdam
X-LIC-LOCATION:Europe/Amsterdam
BEGIN:STANDARD
DTSTART:20261025T020000
TZOFFSETFROM:+0200
TZOFFSETTO:+0100
TZNAME:CET
END:STANDARD
END:VTIMEZONE
END:VCALENDAR