BEGIN:VCALENDAR
VERSION:2.0
PRODID:-//wp-events-plugin.com//7.2.3.1//EN
TZID:Europe/Amsterdam
X-WR-TIMEZONE:Europe/Amsterdam
BEGIN:VEVENT
UID:279@fanfare-jabeek-doenrade.nl
DTSTART;TZID=Europe/Amsterdam:20260411T193000
DTEND;TZID=Europe/Amsterdam:20260411T230000
DTSTAMP:20260304T203308Z
URL:https://fanfare-jabeek-doenrade.nl/events/concert-met-muziekcollectief
 -23-te-jabeek/
SUMMARY:Concert met MuziekCollectief 23 te Jabeek
DESCRIPTION:
CATEGORIES:Optreden
LOCATION:Ontmoetingscentrum Jabeek\, Gaatstraat 1\, Jabeek\, Nederland
X-APPLE-STRUCTURED-LOCATION;VALUE=URI;X-ADDRESS=Gaatstraat 1\, Jabeek\, Ned
 erland;X-APPLE-RADIUS=100;X-TITLE=Ontmoetingscentrum Jabeek:geo:0,0
END:VEVENT
BEGIN:VTIMEZONE
TZID:Europe/Amsterdam
X-LIC-LOCATION:Europe/Amsterdam
BEGIN:DAYLIGHT
DTSTART:20260329T030000
TZOFFSETFROM:+0100
TZOFFSETTO:+0200
TZNAME:CEST
END:DAYLIGHT
END:VTIMEZONE
END:VCALENDAR