BEGIN:VCALENDAR
VERSION:2.0
PRODID:-//wp-events-plugin.com//7.2.3.1//EN
TZID:Europe/Amsterdam
X-WR-TIMEZONE:Europe/Amsterdam
BEGIN:VEVENT
UID:333@fanfare-jabeek-doenrade.nl
DTSTART;TZID=Europe/Amsterdam:20260330T193000
DTEND;TZID=Europe/Amsterdam:20260330T213000
DTSTAMP:20250623T084521Z
URL:https://fanfare-jabeek-doenrade.nl/events/repetitie-6-2026-01-12-2026-
 01-19-2026-01-26-2026-02-02-2026-02-09-2026-02-16-2026-02-23-2026-03-02-20
 26-03-09-2026-03-16-2026-03-23-2026-03-30/
SUMMARY:Repetitie
DESCRIPTION:
CATEGORIES:repetitie
LOCATION:Ontmoetingscentrum Jabeek\, Gaatstraat 1\, Jabeek\, Nederland
X-APPLE-STRUCTURED-LOCATION;VALUE=URI;X-ADDRESS=Gaatstraat 1\, Jabeek\, Ned
 erland;X-APPLE-RADIUS=100;X-TITLE=Ontmoetingscentrum Jabeek:geo:0,0
END:VEVENT
BEGIN:VTIMEZONE
TZID:Europe/Amsterdam
X-LIC-LOCATION:Europe/Amsterdam
BEGIN:DAYLIGHT
DTSTART:20260329T030000
TZOFFSETFROM:+0100
TZOFFSETTO:+0200
TZNAME:CEST
END:DAYLIGHT
END:VTIMEZONE
END:VCALENDAR